
BEGIN:VCALENDAR
VERSION:2.0
PRODID:-//85.13.157.133//NONSGML kigkonsult.se iCalcreator 2.20//
CALSCALE:GREGORIAN
METHOD:PUBLISH
X-WR-TIMEZONE:Europe/Berlin
BEGIN:VEVENT
UID:event3635@NaturFreunde Bielefeld e.V.
DTSTAMP:20260419T170858Z
CATEGORIES:Jugend
DESCRIPTION:Kletterwochenende im Ith 3. Alter von 10 bis 26 Jahren. \nKateg
 orie: Jugend\nICS-Link: https://www.test.naturfreunde-bielefeld.de/index.p
 hp?option=com_jem&view=event&id=3635:kletterwochenende-im-ith-3-alter-von-
 10-bis-26-jahren\n
DTSTART;VALUE=DATE:20250906
DTEND;VALUE=DATE:20250908
SUMMARY:Kletterwochenende im Ith 3. Alter von 10 bis 26 Jahren. 
URL:https://www.test.naturfreunde-bielefeld.de/index.php?option=com_jem&vie
 w=event&id=3635:kletterwochenende-im-ith-3-alter-von-10-bis-26-jahren
END:VEVENT
END:VCALENDAR
