
BEGIN:VCALENDAR
VERSION:2.0
PRODID:-//85.13.157.133//NONSGML kigkonsult.se iCalcreator 2.20//
CALSCALE:GREGORIAN
METHOD:PUBLISH
X-WR-TIMEZONE:Europe/Berlin
BEGIN:VEVENT
UID:event3636@NaturFreunde Bielefeld e.V.
DTSTAMP:20260419T203831Z
CATEGORIES:Radtouren
DESCRIPTION:Radtour durch's Ravensberger Hügelland (Brake-Laar-Hücker Moor-
 Neuenkirchen-Werther und zurück)\, \nKategorie: Radtouren\nICS-Link: https
 ://www.test.naturfreunde-bielefeld.de/index.php?option=com_jem&view=event&
 id=3636:radtour-durchs-ravensberger-ha-1-4gelland-brake-laar-ha-1-4cker-mo
 or-neuenkirchen-werther-und-zura-1-4ck\n
DTSTART;VALUE=DATE:20250906
DTEND;VALUE=DATE:20250907
SUMMARY:Radtour durch's Ravensberger Hügelland (Brake-Laar-Hücker Moor-Neue
 nkirchen-Werther und zurück)\, 
URL:https://www.test.naturfreunde-bielefeld.de/index.php?option=com_jem&vie
 w=event&id=3636:radtour-durchs-ravensberger-ha-1-4gelland-brake-laar-ha-1-
 4cker-moor-neuenkirchen-werther-und-zura-1-4ck
END:VEVENT
END:VCALENDAR
