
BEGIN:VCALENDAR
VERSION:2.0
PRODID:-//85.13.157.133//NONSGML kigkonsult.se iCalcreator 2.20//
CALSCALE:GREGORIAN
METHOD:PUBLISH
X-WR-TIMEZONE:Europe/Berlin
BEGIN:VEVENT
UID:event3637@NaturFreunde Bielefeld e.V.
DTSTAMP:20260419T170731Z
CATEGORIES:Nordic Walking
DESCRIPTION:Nordic Walking im kühlen Eisgrund\, \nKategorie: Nordic Walking
 \nICS-Link: https://www.test.naturfreunde-bielefeld.de/index.php?option=co
 m_jem&view=event&id=3637:nordic-walking-im-ka-1-4hlen-eisgrund\n
DTSTART;VALUE=DATE:20250907
DTEND;VALUE=DATE:20250908
SUMMARY:Nordic Walking im kühlen Eisgrund\, 
URL:https://www.test.naturfreunde-bielefeld.de/index.php?option=com_jem&vie
 w=event&id=3637:nordic-walking-im-ka-1-4hlen-eisgrund
END:VEVENT
END:VCALENDAR
