
BEGIN:VCALENDAR
VERSION:2.0
PRODID:-//85.13.157.133//NONSGML kigkonsult.se iCalcreator 2.20//
CALSCALE:GREGORIAN
METHOD:PUBLISH
X-WR-TIMEZONE:Europe/Berlin
BEGIN:VEVENT
UID:event3639@NaturFreunde Bielefeld e.V.
DTSTAMP:20260421T085535Z
CATEGORIES:Jugend
DESCRIPTION:Bergwoche in Arco. Alter ab 18 Jahren. \nKategorie: Jugend\nICS
 -Link: https://www.test.naturfreunde-bielefeld.de/index.php?option=com_jem
 &view=event&id=3639:bergwoche-in-arco-alter-ab-18-jahren\n
DTSTART;VALUE=DATE:20250912
DTEND;VALUE=DATE:20250922
SUMMARY:Bergwoche in Arco. Alter ab 18 Jahren. 
URL:https://www.test.naturfreunde-bielefeld.de/index.php?option=com_jem&vie
 w=event&id=3639:bergwoche-in-arco-alter-ab-18-jahren
END:VEVENT
END:VCALENDAR
