
BEGIN:VCALENDAR
VERSION:2.0
PRODID:-//85.13.157.133//NONSGML kigkonsult.se iCalcreator 2.20//
CALSCALE:GREGORIAN
METHOD:PUBLISH
X-WR-TIMEZONE:Europe/Berlin
BEGIN:VEVENT
UID:event3641@NaturFreunde Bielefeld e.V.
DTSTAMP:20260421T091710Z
CATEGORIES:Kultur
DESCRIPTION:Dein WLAN-Router - das unbekannte Wesen. \nKategorie: Kultur\nI
 CS-Link: https://www.test.naturfreunde-bielefeld.de/index.php?option=com_j
 em&view=event&id=3641:dein-wlan-router-das-unbekannte-wesen\n
DTSTART;VALUE=DATE:20250912
DTEND;VALUE=DATE:20250913
SUMMARY:Dein WLAN-Router - das unbekannte Wesen. 
URL:https://www.test.naturfreunde-bielefeld.de/index.php?option=com_jem&vie
 w=event&id=3641:dein-wlan-router-das-unbekannte-wesen
END:VEVENT
END:VCALENDAR
