
BEGIN:VCALENDAR
VERSION:2.0
PRODID:-//85.13.157.133//NONSGML kigkonsult.se iCalcreator 2.20//
CALSCALE:GREGORIAN
METHOD:PUBLISH
X-WR-TIMEZONE:Europe/Berlin
BEGIN:VEVENT
UID:event3643@NaturFreunde Bielefeld e.V.
DTSTAMP:20260419T153449Z
CATEGORIES:Kultur
DESCRIPTION:Der automobile Mensch. Irrwege einer Gesellschaft und mögliche 
 Auswege aus dem 'System Auto'. \;Filmische Beispiele von Reinhard Seiss mi
 t Lösungsansetzen\, vorgestellt von Gerd. Beginn um 20 Uhr im Naturfreunde
 haus Heepen\, Heeper Str. 364.\nKategorie: Kultur\nICS-Link: https://www.t
 est.naturfreunde-bielefeld.de/index.php?option=com_jem&view=event&id=3643:
 der-automobile-mensch-irrwege-einer-gesellschaft-und-ma-gliche-auswege-aus
 -dem-system-auto-filmische-beispiele-von-reinhard-seiss-mit-la-sungsansetz
 en-vorgestellt-von-gerd-beginn-um-20-uhr-im-naturfreundehaus-heepen-heeper
 -str-364\n
DTSTART;VALUE=DATE:20250919
DTEND;VALUE=DATE:20250920
SUMMARY:Der automobile Mensch. Irrwege einer Gesellschaft und mögliche Ausw
 ege aus dem 'System Auto'. \;Filmische Beispiele von Reinhard Seiss mit Lö
 sungsansetzen\, vorgestellt von Gerd. Beginn um 20 Uhr im Naturfreundehaus
  Heepen\, Heeper Str. 364.
URL:https://www.test.naturfreunde-bielefeld.de/index.php?option=com_jem&vie
 w=event&id=3643:der-automobile-mensch-irrwege-einer-gesellschaft-und-ma-gl
 iche-auswege-aus-dem-system-auto-filmische-beispiele-von-reinhard-seiss-mi
 t-la-sungsansetzen-vorgestellt-von-gerd-beginn-um-20-uhr-im-naturfreundeha
 us-heepen-heeper-str-364
END:VEVENT
END:VCALENDAR
