
BEGIN:VCALENDAR
VERSION:2.0
PRODID:-//85.13.157.133//NONSGML kigkonsult.se iCalcreator 2.20//
CALSCALE:GREGORIAN
METHOD:PUBLISH
X-WR-TIMEZONE:Europe/Berlin
BEGIN:VEVENT
UID:event3644@NaturFreunde Bielefeld e.V.
DTSTAMP:20260423T085114Z
CATEGORIES:Kanu
DESCRIPTION:Die Spätsommerfahrt nach Hann. Münden fällt mangels Interesse a
 us.\nKategorie: Kanu\nICS-Link: https://www.test.naturfreunde-bielefeld.de
 /index.php?option=com_jem&view=event&id=3644:die-spa-tsommerfahrt-nach-han
 n-ma-1-4nden-fa-llt-mangels-interesse-aus\n
DTSTART;VALUE=DATE:20250919
DTEND;VALUE=DATE:20250923
SUMMARY:Die Spätsommerfahrt nach Hann. Münden fällt mangels Interesse aus.
URL:https://www.test.naturfreunde-bielefeld.de/index.php?option=com_jem&vie
 w=event&id=3644:die-spa-tsommerfahrt-nach-hann-ma-1-4nden-fa-llt-mangels-i
 nteresse-aus
END:VEVENT
END:VCALENDAR
