
BEGIN:VCALENDAR
VERSION:2.0
PRODID:-//85.13.157.133//NONSGML kigkonsult.se iCalcreator 2.20//
CALSCALE:GREGORIAN
METHOD:PUBLISH
X-WR-TIMEZONE:Europe/Berlin
BEGIN:VEVENT
UID:event3647@NaturFreunde Bielefeld e.V.
DTSTAMP:20260419T220949Z
CATEGORIES:Kultur
DESCRIPTION:Flammkuchen und Weinprobe. Bringt euren Lieblingsflammkuchen mi
 t. \nKategorie: Kultur\nICS-Link: https://www.test.naturfreunde-bielefeld.
 de/index.php?option=com_jem&view=event&id=3647:flammkuchen-und-weinprobe-b
 ringt-euren-lieblingsflammkuchen-mit\n
DTSTART;VALUE=DATE:20250926
DTEND;VALUE=DATE:20250927
SUMMARY:Flammkuchen und Weinprobe. Bringt euren Lieblingsflammkuchen mit. 
URL:https://www.test.naturfreunde-bielefeld.de/index.php?option=com_jem&vie
 w=event&id=3647:flammkuchen-und-weinprobe-bringt-euren-lieblingsflammkuche
 n-mit
END:VEVENT
END:VCALENDAR
