
BEGIN:VCALENDAR
VERSION:2.0
PRODID:-//85.13.157.133//NONSGML kigkonsult.se iCalcreator 2.20//
CALSCALE:GREGORIAN
METHOD:PUBLISH
X-WR-TIMEZONE:Europe/Berlin
BEGIN:VEVENT
UID:event3648@NaturFreunde Bielefeld e.V.
DTSTAMP:20260419T171329Z
CATEGORIES:Kanu
DESCRIPTION:Abpaddeln auf einem Bach\, den wir nach Wasserstand kurzfristig
  aussuchen werden. \nKategorie: Kanu\nICS-Link: https://www.test.naturfreu
 nde-bielefeld.de/index.php?option=com_jem&view=event&id=3648:abpaddeln-auf
 -einem-bach-den-wir-nach-wasserstand-kurzfristig-aussuchen-werden\n
DTSTART;VALUE=DATE:20250927
DTEND;VALUE=DATE:20250928
SUMMARY:Abpaddeln auf einem Bach\, den wir nach Wasserstand kurzfristig aus
 suchen werden. 
URL:https://www.test.naturfreunde-bielefeld.de/index.php?option=com_jem&vie
 w=event&id=3648:abpaddeln-auf-einem-bach-den-wir-nach-wasserstand-kurzfris
 tig-aussuchen-werden
END:VEVENT
END:VCALENDAR
