
BEGIN:VCALENDAR
VERSION:2.0
PRODID:-//85.13.157.133//NONSGML kigkonsult.se iCalcreator 2.20//
CALSCALE:GREGORIAN
METHOD:PUBLISH
X-WR-TIMEZONE:Europe/Berlin
BEGIN:VEVENT
UID:event3651@NaturFreunde Bielefeld e.V.
DTSTAMP:20260419T170727Z
CATEGORIES:Kanu
DESCRIPTION:Anpaddeln. Auch hier werden wir den Fluss oder Bach kurzfristig
  nach Wasserstand aussuchen. \nKategorie: Kanu\nICS-Link: https://www.test
 .naturfreunde-bielefeld.de/index.php?option=com_jem&view=event&id=3651:anp
 addeln-auch-hier-werden-wir-den-fluss-oder-bach-kurzfristig-nach-wassersta
 nd-aussuchen\n
DTSTART;VALUE=DATE:20251003
DTEND;VALUE=DATE:20251004
SUMMARY:Anpaddeln. Auch hier werden wir den Fluss oder Bach kurzfristig nac
 h Wasserstand aussuchen. 
URL:https://www.test.naturfreunde-bielefeld.de/index.php?option=com_jem&vie
 w=event&id=3651:anpaddeln-auch-hier-werden-wir-den-fluss-oder-bach-kurzfri
 stig-nach-wasserstand-aussuchen
END:VEVENT
END:VCALENDAR
