
BEGIN:VCALENDAR
VERSION:2.0
PRODID:-//85.13.157.133//NONSGML kigkonsult.se iCalcreator 2.20//
CALSCALE:GREGORIAN
METHOD:PUBLISH
X-WR-TIMEZONE:Europe/Berlin
BEGIN:VEVENT
UID:event3652@NaturFreunde Bielefeld e.V.
DTSTAMP:20260419T170510Z
CATEGORIES:Jugend
DESCRIPTION:Eltern-Kind-Kletterwochenende im Ith. Für Eltern mit Kindern. 
 \nKategorie: Jugend\nICS-Link: https://www.test.naturfreunde-bielefeld.de/
 index.php?option=com_jem&view=event&id=3652:eltern-kind-kletterwochenende-
 im-ith-fa-1-4r-eltern-mit-kindern\n
DTSTART;VALUE=DATE:20251003
DTEND;VALUE=DATE:20251006
SUMMARY:Eltern-Kind-Kletterwochenende im Ith. Für Eltern mit Kindern. 
URL:https://www.test.naturfreunde-bielefeld.de/index.php?option=com_jem&vie
 w=event&id=3652:eltern-kind-kletterwochenende-im-ith-fa-1-4r-eltern-mit-ki
 ndern
END:VEVENT
END:VCALENDAR
