
BEGIN:VCALENDAR
VERSION:2.0
PRODID:-//85.13.157.133//NONSGML kigkonsult.se iCalcreator 2.20//
CALSCALE:GREGORIAN
METHOD:PUBLISH
X-WR-TIMEZONE:Europe/Berlin
BEGIN:VEVENT
UID:event3653@NaturFreunde Bielefeld e.V.
DTSTAMP:20260421T135340Z
CATEGORIES:Kultur
DESCRIPTION:Arbeitskreis Kultur und Touristik. \nKategorie: Kultur\nICS-Lin
 k: https://www.test.naturfreunde-bielefeld.de/index.php?option=com_jem&vie
 w=event&id=3653:arbeitskreis-kultur-und-touristik\n
DTSTART;VALUE=DATE:20251010
DTEND;VALUE=DATE:20251011
SUMMARY:Arbeitskreis Kultur und Touristik. 
URL:https://www.test.naturfreunde-bielefeld.de/index.php?option=com_jem&vie
 w=event&id=3653:arbeitskreis-kultur-und-touristik
END:VEVENT
END:VCALENDAR
