
BEGIN:VCALENDAR
VERSION:2.0
PRODID:-//85.13.157.133//NONSGML kigkonsult.se iCalcreator 2.20//
CALSCALE:GREGORIAN
METHOD:PUBLISH
X-WR-TIMEZONE:Europe/Berlin
BEGIN:VEVENT
UID:event3656@NaturFreunde Bielefeld e.V.
DTSTAMP:20260421T085702Z
CATEGORIES:Jugend
DESCRIPTION:Herbstferien in Arco. Alter von 14 bis 20 Jahren. \nKategorie: 
 Jugend\nICS-Link: https://www.test.naturfreunde-bielefeld.de/index.php?opt
 ion=com_jem&view=event&id=3656:herbstferien-in-arco-alter-von-14-bis-20-ja
 hren\n
DTSTART;VALUE=DATE:20251011
DTEND;VALUE=DATE:20251020
SUMMARY:Herbstferien in Arco. Alter von 14 bis 20 Jahren. 
URL:https://www.test.naturfreunde-bielefeld.de/index.php?option=com_jem&vie
 w=event&id=3656:herbstferien-in-arco-alter-von-14-bis-20-jahren
END:VEVENT
END:VCALENDAR
