
BEGIN:VCALENDAR
VERSION:2.0
PRODID:-//85.13.157.133//NONSGML kigkonsult.se iCalcreator 2.20//
CALSCALE:GREGORIAN
METHOD:PUBLISH
X-WR-TIMEZONE:Europe/Berlin
BEGIN:VEVENT
UID:event3658@NaturFreunde Bielefeld e.V.
DTSTAMP:20260423T084232Z
CATEGORIES:Senioren
DESCRIPTION:Seniorenspaziergang mit Erika Bramsemann durch den Oldentruper 
 Park zum Heeper Landhaus. \nKategorie: Senioren\nICS-Link: https://www.tes
 t.naturfreunde-bielefeld.de/index.php?option=com_jem&view=event&id=3658:se
 niorenspaziergang-mit-erika-bramsemann-durch-den-oldentruper-park-zum-heep
 er-landhaus\n
DTSTART;VALUE=DATE:20251015
DTEND;VALUE=DATE:20251016
SUMMARY:Seniorenspaziergang mit Erika Bramsemann durch den Oldentruper Park
  zum Heeper Landhaus. 
URL:https://www.test.naturfreunde-bielefeld.de/index.php?option=com_jem&vie
 w=event&id=3658:seniorenspaziergang-mit-erika-bramsemann-durch-den-oldentr
 uper-park-zum-heeper-landhaus
END:VEVENT
END:VCALENDAR
