
BEGIN:VCALENDAR
VERSION:2.0
PRODID:-//85.13.157.133//NONSGML kigkonsult.se iCalcreator 2.20//
CALSCALE:GREGORIAN
METHOD:PUBLISH
X-WR-TIMEZONE:Europe/Berlin
BEGIN:VEVENT
UID:event3659@NaturFreunde Bielefeld e.V.
DTSTAMP:20260421T104507Z
CATEGORIES:Radtouren
DESCRIPTION:Fahrradtour zum MARTA nach Herford 50 km\, \nKategorie: Radtour
 en\nICS-Link: https://www.test.naturfreunde-bielefeld.de/index.php?option=
 com_jem&view=event&id=3659:fahrradtour-zum-marta-nach-herford-50-km\n
DTSTART;VALUE=DATE:20251018
DTEND;VALUE=DATE:20251019
SUMMARY:Fahrradtour zum MARTA nach Herford 50 km\, 
URL:https://www.test.naturfreunde-bielefeld.de/index.php?option=com_jem&vie
 w=event&id=3659:fahrradtour-zum-marta-nach-herford-50-km
END:VEVENT
END:VCALENDAR
