
BEGIN:VCALENDAR
VERSION:2.0
PRODID:-//85.13.157.133//NONSGML kigkonsult.se iCalcreator 2.20//
CALSCALE:GREGORIAN
METHOD:PUBLISH
X-WR-TIMEZONE:Europe/Berlin
BEGIN:VEVENT
UID:event3660@NaturFreunde Bielefeld e.V.
DTSTAMP:20260421T104435Z
CATEGORIES:Nordic Walking
DESCRIPTION:Nordic Walking im Schopketal\, \nKategorie: Nordic Walking\nICS
 -Link: https://www.test.naturfreunde-bielefeld.de/index.php?option=com_jem
 &view=event&id=3660:nordic-walking-im-schopketal\n
DTSTART;VALUE=DATE:20251019
DTEND;VALUE=DATE:20251020
SUMMARY:Nordic Walking im Schopketal\, 
URL:https://www.test.naturfreunde-bielefeld.de/index.php?option=com_jem&vie
 w=event&id=3660:nordic-walking-im-schopketal
END:VEVENT
END:VCALENDAR
