
BEGIN:VCALENDAR
VERSION:2.0
PRODID:-//85.13.157.133//NONSGML kigkonsult.se iCalcreator 2.20//
CALSCALE:GREGORIAN
METHOD:PUBLISH
X-WR-TIMEZONE:Europe/Berlin
BEGIN:VEVENT
UID:event3661@NaturFreunde Bielefeld e.V.
DTSTAMP:20260419T184826Z
CATEGORIES:Jugend
DESCRIPTION:Herbstferienspiele in der Boulderhalle 2. Alter von 9 bis 13 Ja
 hren. \nKategorie: Jugend\nICS-Link: https://www.test.naturfreunde-bielefe
 ld.de/index.php?option=com_jem&view=event&id=3661:herbstferienspiele-in-de
 r-boulderhalle-2-alter-von-9-bis-13-jahren\n
DTSTART;VALUE=DATE:20251020
DTEND;VALUE=DATE:20251025
SUMMARY:Herbstferienspiele in der Boulderhalle 2. Alter von 9 bis 13 Jahren
 . 
URL:https://www.test.naturfreunde-bielefeld.de/index.php?option=com_jem&vie
 w=event&id=3661:herbstferienspiele-in-der-boulderhalle-2-alter-von-9-bis-1
 3-jahren
END:VEVENT
END:VCALENDAR
