
BEGIN:VCALENDAR
VERSION:2.0
PRODID:-//85.13.157.133//NONSGML kigkonsult.se iCalcreator 2.20//
CALSCALE:GREGORIAN
METHOD:PUBLISH
X-WR-TIMEZONE:Europe/Berlin
BEGIN:VEVENT
UID:event3662@NaturFreunde Bielefeld e.V.
DTSTAMP:20260419T134149Z
CATEGORIES:Wanderungen
DESCRIPTION:Auf dem Emmerweg X8 von Bad Pyrmont nach Schieder\, ca. 17 km\,
  \nKategorie: Wanderungen\nICS-Link: https://www.test.naturfreunde-bielefe
 ld.de/index.php?option=com_jem&view=event&id=3662:auf-dem-emmerweg-x8-von-
 bad-pyrmont-nach-schieder-ca-17-km\n
DTSTART;VALUE=DATE:20251025
DTEND;VALUE=DATE:20251026
SUMMARY:Auf dem Emmerweg X8 von Bad Pyrmont nach Schieder\, ca. 17 km\, 
URL:https://www.test.naturfreunde-bielefeld.de/index.php?option=com_jem&vie
 w=event&id=3662:auf-dem-emmerweg-x8-von-bad-pyrmont-nach-schieder-ca-17-km
END:VEVENT
END:VCALENDAR
