
BEGIN:VCALENDAR
VERSION:2.0
PRODID:-//85.13.157.133//NONSGML kigkonsult.se iCalcreator 2.20//
CALSCALE:GREGORIAN
METHOD:PUBLISH
X-WR-TIMEZONE:Europe/Berlin
BEGIN:VEVENT
UID:event3664@NaturFreunde Bielefeld e.V.
DTSTAMP:20260419T153508Z
CATEGORIES:Kultur
DESCRIPTION:Unser Naturpark Teutoburger Wald/Eggegebirge: Anja Bonte und Ho
 lger Kern berichten über Ausbildung\, Angebote und Wirkungskreis der Natur
 parkführer:innen. \nKategorie: Kultur\nICS-Link: https://www.test.naturfre
 unde-bielefeld.de/index.php?option=com_jem&view=event&id=3664:unser-naturp
 ark-teutoburger-wald-eggegebirge-anja-bonte-und-holger-kern-berichten-a-1-
 4ber-ausbildung-angebote-und-wirkungskreis-der-naturparkfa-1-4hrer-innen\n
DTSTART;VALUE=DATE:20251031
DTEND;VALUE=DATE:20251101
SUMMARY:Unser Naturpark Teutoburger Wald/Eggegebirge: Anja Bonte und Holger
  Kern berichten über Ausbildung\, Angebote und Wirkungskreis der Naturpark
 führer:innen. 
URL:https://www.test.naturfreunde-bielefeld.de/index.php?option=com_jem&vie
 w=event&id=3664:unser-naturpark-teutoburger-wald-eggegebirge-anja-bonte-un
 d-holger-kern-berichten-a-1-4ber-ausbildung-angebote-und-wirkungskreis-der
 -naturparkfa-1-4hrer-innen
END:VEVENT
END:VCALENDAR
