
BEGIN:VCALENDAR
VERSION:2.0
PRODID:-//85.13.157.133//NONSGML kigkonsult.se iCalcreator 2.20//
CALSCALE:GREGORIAN
METHOD:PUBLISH
X-WR-TIMEZONE:Europe/Berlin
BEGIN:VEVENT
UID:event3665@NaturFreunde Bielefeld e.V.
DTSTAMP:20260419T133821Z
CATEGORIES:Jugend
DESCRIPTION:Jahresplanungstreffen. Für jedes Alter. \nKategorie: Jugend\nIC
 S-Link: https://www.test.naturfreunde-bielefeld.de/index.php?option=com_je
 m&view=event&id=3665:jahresplanungstreffen-fa-1-4r-jedes-alter\n
DTSTART;VALUE=DATE:20251101
DTEND;VALUE=DATE:20251103
SUMMARY:Jahresplanungstreffen. Für jedes Alter. 
URL:https://www.test.naturfreunde-bielefeld.de/index.php?option=com_jem&vie
 w=event&id=3665:jahresplanungstreffen-fa-1-4r-jedes-alter
END:VEVENT
END:VCALENDAR
