
BEGIN:VCALENDAR
VERSION:2.0
PRODID:-//85.13.157.133//NONSGML kigkonsult.se iCalcreator 2.20//
CALSCALE:GREGORIAN
METHOD:PUBLISH
X-WR-TIMEZONE:Europe/Berlin
BEGIN:VEVENT
UID:event3669@NaturFreunde Bielefeld e.V.
DTSTAMP:20260421T110117Z
CATEGORIES:Kultur
DESCRIPTION:Schroffe Felsen im Weltkulturerbe. Willi berichtet von seiner M
 TB-Rundreise um die 'Drei Zinnen'. \;Beginn um 20 Uhr im Naturfreundehaus 
 Heepen\, Heeper Str. 364.\nKategorie: Kultur\nICS-Link: https://www.test.n
 aturfreunde-bielefeld.de/index.php?option=com_jem&view=event&id=3669:schro
 ffe-felsen-im-weltkulturerbe-willi-berichtet-von-seiner-mtb-rundreise-um-d
 ie-drei-zinnen-beginn-um-20-uhr-im-naturfreundehaus-heepen-heeper-str-364
 \n
DTSTART;VALUE=DATE:20251107
DTEND;VALUE=DATE:20251108
SUMMARY:Schroffe Felsen im Weltkulturerbe. Willi berichtet von seiner MTB-R
 undreise um die 'Drei Zinnen'. \;Beginn um 20 Uhr im Naturfreundehaus Heep
 en\, Heeper Str. 364.
URL:https://www.test.naturfreunde-bielefeld.de/index.php?option=com_jem&vie
 w=event&id=3669:schroffe-felsen-im-weltkulturerbe-willi-berichtet-von-sein
 er-mtb-rundreise-um-die-drei-zinnen-beginn-um-20-uhr-im-naturfreundehaus-h
 eepen-heeper-str-364
END:VEVENT
END:VCALENDAR
