
BEGIN:VCALENDAR
VERSION:2.0
PRODID:-//85.13.157.133//NONSGML kigkonsult.se iCalcreator 2.20//
CALSCALE:GREGORIAN
METHOD:PUBLISH
X-WR-TIMEZONE:Europe/Berlin
BEGIN:VEVENT
UID:event3672@NaturFreunde Bielefeld e.V.
DTSTAMP:20260419T120407Z
CATEGORIES:Kultur
DESCRIPTION:Frieden in Bewegung 2025. Ein Resumee der großen Naturfreundewa
 nderung von Den Haag bis Bremen mit Bildern und Erlebnissen von Frauke und
  Wolfgang. Beginn um 20 Uhr im Naturfreundehaus Heepen\, Heeper Str. 364.
 \nKategorie: Kultur\nICS-Link: https://www.test.naturfreunde-bielefeld.de/
 index.php?option=com_jem&view=event&id=3672:beginn-um-20-uhr-im-naturfreun
 dehaus-heepen-heeper-str-364\n
DTSTART;VALUE=DATE:20251114
DTEND;VALUE=DATE:20251115
SUMMARY:Frieden in Bewegung 2025. Ein Resumee der großen Naturfreundewander
 ung von Den Haag bis Bremen mit Bildern und Erlebnissen von Frauke und Wol
 fgang. Beginn um 20 Uhr im Naturfreundehaus Heepen\, Heeper Str. 364.
URL:https://www.test.naturfreunde-bielefeld.de/index.php?option=com_jem&vie
 w=event&id=3672:beginn-um-20-uhr-im-naturfreundehaus-heepen-heeper-str-364
END:VEVENT
END:VCALENDAR
