
BEGIN:VCALENDAR
VERSION:2.0
PRODID:-//85.13.157.133//NONSGML kigkonsult.se iCalcreator 2.20//
CALSCALE:GREGORIAN
METHOD:PUBLISH
X-WR-TIMEZONE:Europe/Berlin
BEGIN:VEVENT
UID:event3676@NaturFreunde Bielefeld e.V.
DTSTAMP:20260419T172250Z
CATEGORIES:Kultur
DESCRIPTION:'Peaks of the balkans'. Ralf und Merlin berichten von ihrem Tre
 kking in einem der wildesten Winkel Europas. \;Beginn um 20 Uhr im Naturfr
 eundehaus Heepen\, Heeper Str. 364.\nKategorie: Kultur\nICS-Link: https://
 www.test.naturfreunde-bielefeld.de/index.php?option=com_jem&view=event&id=
 3676:peaks-of-the-balkans-ralf-und-merlin-berichten-von-ihrem-trekking-in-
 einem-der-wildesten-winkel-europas-beginn-um-20-uhr-im-naturfreundehaus-he
 epen-heeper-str-364\n
DTSTART;VALUE=DATE:20251121
DTEND;VALUE=DATE:20251122
SUMMARY:'Peaks of the balkans'. Ralf und Merlin berichten von ihrem Trekkin
 g in einem der wildesten Winkel Europas. \;Beginn um 20 Uhr im Naturfreund
 ehaus Heepen\, Heeper Str. 364.
URL:https://www.test.naturfreunde-bielefeld.de/index.php?option=com_jem&vie
 w=event&id=3676:peaks-of-the-balkans-ralf-und-merlin-berichten-von-ihrem-t
 rekking-in-einem-der-wildesten-winkel-europas-beginn-um-20-uhr-im-naturfre
 undehaus-heepen-heeper-str-364
END:VEVENT
END:VCALENDAR
