
BEGIN:VCALENDAR
VERSION:2.0
PRODID:-//85.13.157.133//NONSGML kigkonsult.se iCalcreator 2.20//
CALSCALE:GREGORIAN
METHOD:PUBLISH
X-WR-TIMEZONE:Europe/Berlin
BEGIN:VEVENT
UID:event3685@NaturFreunde Bielefeld e.V.
DTSTAMP:20260419T171141Z
CATEGORIES:Kanu
DESCRIPTION:Der Rintelner Kanuclub lädt an Nikolaus zur 52. Eisfahrt ein. 
 \nKategorie: Kanu\nICS-Link: https://www.test.naturfreunde-bielefeld.de/in
 dex.php?option=com_jem&view=event&id=3685:der-rintelner-kanuclub-la-dt-an-
 nikolaus-zur-52-eisfahrt-ein\n
DTSTART;VALUE=DATE:20251206
DTEND;VALUE=DATE:20251207
SUMMARY:Der Rintelner Kanuclub lädt an Nikolaus zur 52. Eisfahrt ein. 
URL:https://www.test.naturfreunde-bielefeld.de/index.php?option=com_jem&vie
 w=event&id=3685:der-rintelner-kanuclub-la-dt-an-nikolaus-zur-52-eisfahrt-e
 in
END:VEVENT
END:VCALENDAR
