
BEGIN:VCALENDAR
VERSION:2.0
PRODID:-//85.13.157.133//NONSGML kigkonsult.se iCalcreator 2.20//
CALSCALE:GREGORIAN
METHOD:PUBLISH
X-WR-TIMEZONE:Europe/Berlin
BEGIN:VEVENT
UID:event3692@NaturFreunde Bielefeld e.V.
DTSTAMP:20260419T170154Z
CATEGORIES:Bouldern
DESCRIPTION:Advents Eltern-Kind Bouldern. \nKategorie: Bouldern\nICS-Link: 
 https://www.test.naturfreunde-bielefeld.de/index.php?option=com_jem&view=e
 vent&id=3692:advents-eltern-kind-bouldern\n
DTSTART;VALUE=DATE:20251213
DTEND;VALUE=DATE:20251214
SUMMARY:Advents Eltern-Kind Bouldern. 
URL:https://www.test.naturfreunde-bielefeld.de/index.php?option=com_jem&vie
 w=event&id=3692:advents-eltern-kind-bouldern
END:VEVENT
END:VCALENDAR
