
BEGIN:VCALENDAR
VERSION:2.0
PRODID:-//85.13.157.133//NONSGML kigkonsult.se iCalcreator 2.20//
CALSCALE:GREGORIAN
METHOD:PUBLISH
X-WR-TIMEZONE:Europe/Berlin
BEGIN:VEVENT
UID:event3695@NaturFreunde Bielefeld e.V.
DTSTAMP:20260420T025928Z
CATEGORIES:Nordic Walking
DESCRIPTION:Nordic Walking zum Winteranfang. Im Schnee?\, \nKategorie: Nord
 ic Walking\nICS-Link: https://www.test.naturfreunde-bielefeld.de/index.php
 ?option=com_jem&view=event&id=3695:nordic-walking-zum-winteranfang-im-schn
 ee\n
DTSTART;VALUE=DATE:20251221
DTEND;VALUE=DATE:20251222
SUMMARY:Nordic Walking zum Winteranfang. Im Schnee?\, 
URL:https://www.test.naturfreunde-bielefeld.de/index.php?option=com_jem&vie
 w=event&id=3695:nordic-walking-zum-winteranfang-im-schnee
END:VEVENT
END:VCALENDAR
