
BEGIN:VCALENDAR
VERSION:2.0
PRODID:-//85.13.157.133//NONSGML kigkonsult.se iCalcreator 2.20//
CALSCALE:GREGORIAN
METHOD:PUBLISH
X-WR-TIMEZONE:Europe/Berlin
BEGIN:VEVENT
UID:event3697@NaturFreunde Bielefeld e.V.
DTSTAMP:20260419T171947Z
CATEGORIES:Ortsgruppe
DESCRIPTION:Großes gemeinsames NaturFreunde-Frühstück auf dem Meierhof\nKat
 egorie: Ortsgruppe\nICS-Link: https://www.test.naturfreunde-bielefeld.de/i
 ndex.php?option=com_jem&view=event&id=3697:groayes-gemeinsames-naturfreund
 e-fra-1-4hsta-1-4ck-auf-dem-meierhof\n
DTSTART;VALUE=DATE:20260110
DTEND;VALUE=DATE:20260111
SUMMARY:Großes gemeinsames NaturFreunde-Frühstück auf dem Meierhof
URL:https://www.test.naturfreunde-bielefeld.de/index.php?option=com_jem&vie
 w=event&id=3697:groayes-gemeinsames-naturfreunde-fra-1-4hsta-1-4ck-auf-dem
 -meierhof
END:VEVENT
END:VCALENDAR
