
BEGIN:VCALENDAR
VERSION:2.0
PRODID:-//85.13.157.133//NONSGML kigkonsult.se iCalcreator 2.20//
CALSCALE:GREGORIAN
METHOD:PUBLISH
X-WR-TIMEZONE:Europe/Berlin
BEGIN:VEVENT
UID:event3698@NaturFreunde Bielefeld e.V.
DTSTAMP:20260419T221201Z
CATEGORIES:Schneesport
DESCRIPTION:Skiwochenende im NFH Mollseifen. \nKategorie: Schneesport\nICS-
 Link: https://www.test.naturfreunde-bielefeld.de/index.php?option=com_jem&
 view=event&id=3698:skiwochenende-im-nfh-mollseifen\n
DTSTART;VALUE=DATE:20260123
DTEND;VALUE=DATE:20260126
SUMMARY:Skiwochenende im NFH Mollseifen. 
URL:https://www.test.naturfreunde-bielefeld.de/index.php?option=com_jem&vie
 w=event&id=3698:skiwochenende-im-nfh-mollseifen
END:VEVENT
END:VCALENDAR
