
BEGIN:VCALENDAR
VERSION:2.0
PRODID:-//85.13.157.133//NONSGML kigkonsult.se iCalcreator 2.20//
CALSCALE:GREGORIAN
METHOD:PUBLISH
X-WR-TIMEZONE:Europe/Berlin
BEGIN:VEVENT
UID:event3700@NaturFreunde Bielefeld e.V.
DTSTAMP:20260419T172122Z
CATEGORIES:Mountainbike
DESCRIPTION:NaturFreunde Riders Festival im Bikepark Beerfelden. \nKategori
 e: Mountainbike\nICS-Link: https://www.test.naturfreunde-bielefeld.de/inde
 x.php?option=com_jem&view=event&id=3700:naturfreunde-riders-festival-im-bi
 kepark-beerfelden\n
DTSTART;VALUE=DATE:20260515
DTEND;VALUE=DATE:20260518
SUMMARY:NaturFreunde Riders Festival im Bikepark Beerfelden. 
URL:https://www.test.naturfreunde-bielefeld.de/index.php?option=com_jem&vie
 w=event&id=3700:naturfreunde-riders-festival-im-bikepark-beerfelden
END:VEVENT
END:VCALENDAR
