
BEGIN:VCALENDAR
VERSION:2.0
PRODID:-//85.13.157.133//NONSGML kigkonsult.se iCalcreator 2.20//
CALSCALE:GREGORIAN
METHOD:PUBLISH
X-WR-TIMEZONE:Europe/Berlin
BEGIN:VEVENT
UID:event3702@NaturFreunde Bielefeld e.V.
DTSTAMP:20260419T152840Z
CATEGORIES:Senioren
DESCRIPTION:Kurzwanderung durch die Sieker Schweiz\, Länge ca. 8 km\,\nKate
 gorie: Senioren\nICS-Link: https://www.test.naturfreunde-bielefeld.de/inde
 x.php?option=com_jem&view=event&id=3702:kurzwanderung-durch-die-sieker-sch
 weiz-laenge-ca-8-km\n
DTSTART;VALUE=DATE:20260104
DTEND;VALUE=DATE:20260105
SUMMARY:Kurzwanderung durch die Sieker Schweiz\, Länge ca. 8 km\,
URL:https://www.test.naturfreunde-bielefeld.de/index.php?option=com_jem&vie
 w=event&id=3702:kurzwanderung-durch-die-sieker-schweiz-laenge-ca-8-km
END:VEVENT
END:VCALENDAR
