
BEGIN:VCALENDAR
VERSION:2.0
PRODID:-//85.13.157.133//NONSGML kigkonsult.se iCalcreator 2.20//
CALSCALE:GREGORIAN
METHOD:PUBLISH
X-WR-TIMEZONE:Europe/Berlin
BEGIN:VEVENT
UID:event3704@NaturFreunde Bielefeld e.V.
DTSTAMP:20260419T172558Z
CATEGORIES:Kanu
DESCRIPTION:Computertreff im Meierhof Heepen. Beginn um 18.00 Uhr im Naturf
 reundehaus Heepen\, Heeper Str. 364.\nKategorie: Kanu\nICS-Link: https://w
 ww.test.naturfreunde-bielefeld.de/index.php?option=com_jem&view=event&id=3
 704:computertreff-im-meierhof-heepen-beginn-um-18-00-uhr-im-naturfreundeha
 us-heepen-heeper-str-364\n
DTSTART;VALUE=DATE:20260109
DTEND;VALUE=DATE:20260110
SUMMARY:Computertreff im Meierhof Heepen. Beginn um 18.00 Uhr im Naturfreun
 dehaus Heepen\, Heeper Str. 364.
URL:https://www.test.naturfreunde-bielefeld.de/index.php?option=com_jem&vie
 w=event&id=3704:computertreff-im-meierhof-heepen-beginn-um-18-00-uhr-im-na
 turfreundehaus-heepen-heeper-str-364
END:VEVENT
END:VCALENDAR
