
BEGIN:VCALENDAR
VERSION:2.0
PRODID:-//85.13.157.133//NONSGML kigkonsult.se iCalcreator 2.20//
CALSCALE:GREGORIAN
METHOD:PUBLISH
X-WR-TIMEZONE:Europe/Berlin
BEGIN:VEVENT
UID:event3712@NaturFreunde Bielefeld e.V.
DTSTAMP:20260419T153251Z
CATEGORIES:Kultur
DESCRIPTION:Ski Wochenende im Sauerland für Anfänger und Fortgeschrittene.
 \nKategorie: Kultur\nICS-Link: https://www.test.naturfreunde-bielefeld.de/
 index.php?option=com_jem&view=event&id=3712:ski-wochenende-im-sauerland-fu
 er-anfaenger-und-fortgeschrittene\n
DTSTART;VALUE=DATE:20260123
DTEND;VALUE=DATE:20260126
SUMMARY:Ski Wochenende im Sauerland für Anfänger und Fortgeschrittene.
URL:https://www.test.naturfreunde-bielefeld.de/index.php?option=com_jem&vie
 w=event&id=3712:ski-wochenende-im-sauerland-fuer-anfaenger-und-fortgeschri
 ttene
END:VEVENT
END:VCALENDAR
