
BEGIN:VCALENDAR
VERSION:2.0
PRODID:-//85.13.157.133//NONSGML kigkonsult.se iCalcreator 2.20//
CALSCALE:GREGORIAN
METHOD:PUBLISH
X-WR-TIMEZONE:Europe/Berlin
BEGIN:VEVENT
UID:event3715@NaturFreunde Bielefeld e.V.
DTSTAMP:20260419T153436Z
CATEGORIES:Senioren
DESCRIPTION:'Wie schnell das geht!' Das Ende der Demokratie in Bielefeld 19
 33\,\; Ein Vortrag von Thomas Möller - und was wir vielleicht daraus lerne
 n können. Beginn um 20 Uhr im Naturfreundehaus Heepen\, Heeper Str. 364.\n
 Kategorie: Senioren\nICS-Link: https://www.test.naturfreunde-bielefeld.de/
 index.php?option=com_jem&view=event&id=3715:wie-schnell-das-geht-das-ende-
 der-demokratie-in-bielefeld-1933-ein-vortrag-von-thomas-moeller-und-was-wi
 r-vielleicht-daraus-lernen-koennen-beginn-um-20-uhr-im-naturfreundehaus-he
 epen-heeper-str-364\n
DTSTART;VALUE=DATE:20260130
DTEND;VALUE=DATE:20260131
SUMMARY:'Wie schnell das geht!' Das Ende der Demokratie in Bielefeld 1933\,
 \; Ein Vortrag von Thomas Möller - und was wir vielleicht daraus lernen kö
 nnen. Beginn um 20 Uhr im Naturfreundehaus Heepen\, Heeper Str. 364.
URL:https://www.test.naturfreunde-bielefeld.de/index.php?option=com_jem&vie
 w=event&id=3715:wie-schnell-das-geht-das-ende-der-demokratie-in-bielefeld-
 1933-ein-vortrag-von-thomas-moeller-und-was-wir-vielleicht-daraus-lernen-k
 oennen-beginn-um-20-uhr-im-naturfreundehaus-heepen-heeper-str-364
END:VEVENT
END:VCALENDAR
