
BEGIN:VCALENDAR
VERSION:2.0
PRODID:-//85.13.157.133//NONSGML kigkonsult.se iCalcreator 2.20//
CALSCALE:GREGORIAN
METHOD:PUBLISH
X-WR-TIMEZONE:Europe/Berlin
BEGIN:VEVENT
UID:event3719@NaturFreunde Bielefeld e.V.
DTSTAMP:20260421T091730Z
CATEGORIES:Kultur
DESCRIPTION:Hinterlassenschaften Teil 1: Was unsere Vorfahren uns hinterlas
 sen haben.\nKategorie: Kultur\nICS-Link: https://www.test.naturfreunde-bie
 lefeld.de/index.php?option=com_jem&view=event&id=3719:hinterlassenschaften
 -teil-1-was-unsere-vorfahren-uns-hinterlassen-haben\n
DTSTART;VALUE=DATE:20260206
DTEND;VALUE=DATE:20260207
SUMMARY:Hinterlassenschaften Teil 1: Was unsere Vorfahren uns hinterlassen 
 haben.
URL:https://www.test.naturfreunde-bielefeld.de/index.php?option=com_jem&vie
 w=event&id=3719:hinterlassenschaften-teil-1-was-unsere-vorfahren-uns-hinte
 rlassen-haben
END:VEVENT
END:VCALENDAR
