
BEGIN:VCALENDAR
VERSION:2.0
PRODID:-//85.13.157.133//NONSGML kigkonsult.se iCalcreator 2.20//
CALSCALE:GREGORIAN
METHOD:PUBLISH
X-WR-TIMEZONE:Europe/Berlin
BEGIN:VEVENT
UID:event3720@NaturFreunde Bielefeld e.V.
DTSTAMP:20260419T183632Z
CATEGORIES:Nordic Walking
DESCRIPTION:Wanderung durch den Holter Wald\, Länge ca. 11 km\,\nKategorie:
  Nordic Walking\nICS-Link: https://www.test.naturfreunde-bielefeld.de/inde
 x.php?option=com_jem&view=event&id=3720:wanderung-durch-den-holter-wald-la
 enge-ca-11-km\n
DTSTART;VALUE=DATE:20260207
DTEND;VALUE=DATE:20260208
SUMMARY:Wanderung durch den Holter Wald\, Länge ca. 11 km\,
URL:https://www.test.naturfreunde-bielefeld.de/index.php?option=com_jem&vie
 w=event&id=3720:wanderung-durch-den-holter-wald-laenge-ca-11-km
END:VEVENT
END:VCALENDAR
