
BEGIN:VCALENDAR
VERSION:2.0
PRODID:-//85.13.157.133//NONSGML kigkonsult.se iCalcreator 2.20//
CALSCALE:GREGORIAN
METHOD:PUBLISH
X-WR-TIMEZONE:Europe/Berlin
BEGIN:VEVENT
UID:event3721@NaturFreunde Bielefeld e.V.
DTSTAMP:20260423T084038Z
CATEGORIES:Kultur
DESCRIPTION:Seniorenspaziergang mit Erika Bramsemann.\nKategorie: Kultur\nI
 CS-Link: https://www.test.naturfreunde-bielefeld.de/index.php?option=com_j
 em&view=event&id=3721:seniorenspaziergang-mit-erika-bramsemann\n
DTSTART;VALUE=DATE:20260211
DTEND;VALUE=DATE:20260212
SUMMARY:Seniorenspaziergang mit Erika Bramsemann.
URL:https://www.test.naturfreunde-bielefeld.de/index.php?option=com_jem&vie
 w=event&id=3721:seniorenspaziergang-mit-erika-bramsemann
END:VEVENT
END:VCALENDAR
