
BEGIN:VCALENDAR
VERSION:2.0
PRODID:-//85.13.157.133//NONSGML kigkonsult.se iCalcreator 2.20//
CALSCALE:GREGORIAN
METHOD:PUBLISH
X-WR-TIMEZONE:Europe/Berlin
BEGIN:VEVENT
UID:event3725@NaturFreunde Bielefeld e.V.
DTSTAMP:20260419T134128Z
CATEGORIES:Senioren
DESCRIPTION:Gruppenleiter*innenschulung zum Erwerb der JuleiCa\,  Modul 1 i
 n Schwerte\,\nKategorie: Senioren\nICS-Link: https://www.test.naturfreunde
 -bielefeld.de/index.php?option=com_jem&view=event&id=3725:gruppenleiter-in
 nenschulung-zum-erwerb-der-juleica-modul-1-in-schwerte\n
DTSTART;VALUE=DATE:20260220
DTEND;VALUE=DATE:20260223
SUMMARY:Gruppenleiter*innenschulung zum Erwerb der JuleiCa\,  Modul 1 in Sc
 hwerte\,
URL:https://www.test.naturfreunde-bielefeld.de/index.php?option=com_jem&vie
 w=event&id=3725:gruppenleiter-innenschulung-zum-erwerb-der-juleica-modul-1
 -in-schwerte
END:VEVENT
END:VCALENDAR
