
BEGIN:VCALENDAR
VERSION:2.0
PRODID:-//85.13.157.133//NONSGML kigkonsult.se iCalcreator 2.20//
CALSCALE:GREGORIAN
METHOD:PUBLISH
X-WR-TIMEZONE:Europe/Berlin
BEGIN:VEVENT
UID:event3727@NaturFreunde Bielefeld e.V.
DTSTAMP:20260419T170903Z
CATEGORIES:Senioren
DESCRIPTION:Kulinarisches Wochenende. Gemeinsames Kochen in Oerlinghausen.
 \nKategorie: Senioren\nICS-Link: https://www.test.naturfreunde-bielefeld.d
 e/index.php?option=com_jem&view=event&id=3727:kulinarisches-wochenende-gem
 einsames-kochen-in-oerlinghausen\n
DTSTART;VALUE=DATE:20260221
DTEND;VALUE=DATE:20260223
SUMMARY:Kulinarisches Wochenende. Gemeinsames Kochen in Oerlinghausen.
URL:https://www.test.naturfreunde-bielefeld.de/index.php?option=com_jem&vie
 w=event&id=3727:kulinarisches-wochenende-gemeinsames-kochen-in-oerlinghaus
 en
END:VEVENT
END:VCALENDAR
