
BEGIN:VCALENDAR
VERSION:2.0
PRODID:-//85.13.157.133//NONSGML kigkonsult.se iCalcreator 2.20//
CALSCALE:GREGORIAN
METHOD:PUBLISH
X-WR-TIMEZONE:Europe/Berlin
BEGIN:VEVENT
UID:event3728@NaturFreunde Bielefeld e.V.
DTSTAMP:20260419T171702Z
CATEGORIES:Computer
DESCRIPTION:Grünkohlessen im Gasthaus Deppe\, Lämershagen.\nKategorie: Comp
 uter\nICS-Link: https://www.test.naturfreunde-bielefeld.de/index.php?optio
 n=com_jem&view=event&id=3728:gruenkohlessen-im-gasthaus-deppe-laemershagen
 \n
DTSTART;VALUE=DATE:20260225
DTEND;VALUE=DATE:20260226
SUMMARY:Grünkohlessen im Gasthaus Deppe\, Lämershagen.
URL:https://www.test.naturfreunde-bielefeld.de/index.php?option=com_jem&vie
 w=event&id=3728:gruenkohlessen-im-gasthaus-deppe-laemershagen
END:VEVENT
END:VCALENDAR
