
BEGIN:VCALENDAR
VERSION:2.0
PRODID:-//85.13.157.133//NONSGML kigkonsult.se iCalcreator 2.20//
CALSCALE:GREGORIAN
METHOD:PUBLISH
X-WR-TIMEZONE:Europe/Berlin
BEGIN:VEVENT
UID:event3734@NaturFreunde Bielefeld e.V.
DTSTAMP:20260419T171206Z
CATEGORIES:Jugend
DESCRIPTION:Rundwanderung von Lübbecke zum Gr. Torfmoor\, Länge ca. 23 km\,
 \nKategorie: Jugend\nICS-Link: https://www.test.naturfreunde-bielefeld.de/
 index.php?option=com_jem&view=event&id=3734:rundwanderung-von-luebbecke-zu
 m-gr-torfmoor-laenge-ca-23-km\n
DTSTART;VALUE=DATE:20260307
DTEND;VALUE=DATE:20260308
SUMMARY:Rundwanderung von Lübbecke zum Gr. Torfmoor\, Länge ca. 23 km\,
URL:https://www.test.naturfreunde-bielefeld.de/index.php?option=com_jem&vie
 w=event&id=3734:rundwanderung-von-luebbecke-zum-gr-torfmoor-laenge-ca-23-k
 m
END:VEVENT
END:VCALENDAR
