
BEGIN:VCALENDAR
VERSION:2.0
PRODID:-//85.13.157.133//NONSGML kigkonsult.se iCalcreator 2.20//
CALSCALE:GREGORIAN
METHOD:PUBLISH
X-WR-TIMEZONE:Europe/Berlin
BEGIN:VEVENT
UID:event3739@NaturFreunde Bielefeld e.V.
DTSTAMP:20260419T183707Z
CATEGORIES:Bouldern
DESCRIPTION:Seniorenspaziergang mit Erika Bramsemann.\nKategorie: Bouldern
 \nICS-Link: https://www.test.naturfreunde-bielefeld.de/index.php?option=co
 m_jem&view=event&id=3739:seniorenspaziergang-mit-erika-bramsemann\n
DTSTART;VALUE=DATE:20260318
DTEND;VALUE=DATE:20260319
SUMMARY:Seniorenspaziergang mit Erika Bramsemann.
URL:https://www.test.naturfreunde-bielefeld.de/index.php?option=com_jem&vie
 w=event&id=3739:seniorenspaziergang-mit-erika-bramsemann
END:VEVENT
END:VCALENDAR
