
BEGIN:VCALENDAR
VERSION:2.0
PRODID:-//85.13.157.133//NONSGML kigkonsult.se iCalcreator 2.20//
CALSCALE:GREGORIAN
METHOD:PUBLISH
X-WR-TIMEZONE:Europe/Berlin
BEGIN:VEVENT
UID:event3742@NaturFreunde Bielefeld e.V.
DTSTAMP:20260423T102257Z
CATEGORIES:Senioren
DESCRIPTION:Bouldersession 'Unhaltbare Zustände' \;im Bootshaus für Groß un
 d Klein. Mitbring Buffet und Finale. Infos unter www.boulderhallebootshaus
 .de\nKategorie: Senioren\nICS-Link: https://www.test.naturfreunde-bielefel
 d.de/index.php?option=com_jem&view=event&id=3742:bouldersession-unhaltbare
 -zustaende-im-bootshaus-fuer-gross-und-klein-mitbring-buffet-und-finale-in
 fos-unter-www-boulderhallebootshaus-de\n
DTSTART;VALUE=DATE:20260321
DTEND;VALUE=DATE:20260322
SUMMARY:Bouldersession 'Unhaltbare Zustände' \;im Bootshaus für Groß und Kl
 ein. Mitbring Buffet und Finale. Infos unter www.boulderhallebootshaus.de
URL:https://www.test.naturfreunde-bielefeld.de/index.php?option=com_jem&vie
 w=event&id=3742:bouldersession-unhaltbare-zustaende-im-bootshaus-fuer-gros
 s-und-klein-mitbring-buffet-und-finale-infos-unter-www-boulderhallebootsha
 us-de
END:VEVENT
END:VCALENDAR
