
BEGIN:VCALENDAR
VERSION:2.0
PRODID:-//85.13.157.133//NONSGML kigkonsult.se iCalcreator 2.20//
CALSCALE:GREGORIAN
METHOD:PUBLISH
X-WR-TIMEZONE:Europe/Berlin
BEGIN:VEVENT
UID:event3743@NaturFreunde Bielefeld e.V.
DTSTAMP:20260419T183637Z
CATEGORIES:Kanu
DESCRIPTION:Nordic Walking durch den eisigen Grund\,\nKategorie: Kanu\nICS-
 Link: https://www.test.naturfreunde-bielefeld.de/index.php?option=com_jem&
 view=event&id=3743:nordic-walking-durch-den-eisigen-grund\n
DTSTART;VALUE=DATE:20260322
DTEND;VALUE=DATE:20260323
SUMMARY:Nordic Walking durch den eisigen Grund\,
URL:https://www.test.naturfreunde-bielefeld.de/index.php?option=com_jem&vie
 w=event&id=3743:nordic-walking-durch-den-eisigen-grund
END:VEVENT
END:VCALENDAR
