
BEGIN:VCALENDAR
VERSION:2.0
PRODID:-//85.13.157.133//NONSGML kigkonsult.se iCalcreator 2.20//
CALSCALE:GREGORIAN
METHOD:PUBLISH
X-WR-TIMEZONE:Europe/Berlin
BEGIN:VEVENT
UID:event3744@NaturFreunde Bielefeld e.V.
DTSTAMP:20260419T152723Z
CATEGORIES:Junge Familie
DESCRIPTION:Hochwasserfahrt auf der Nethe.\nKategorie: Junge Familie\nICS-L
 ink: https://www.test.naturfreunde-bielefeld.de/index.php?option=com_jem&v
 iew=event&id=3744:hochwasserfahrt-auf-der-nethe\n
DTSTART;VALUE=DATE:20260322
DTEND;VALUE=DATE:20260323
SUMMARY:Hochwasserfahrt auf der Nethe.
URL:https://www.test.naturfreunde-bielefeld.de/index.php?option=com_jem&vie
 w=event&id=3744:hochwasserfahrt-auf-der-nethe
END:VEVENT
END:VCALENDAR
