
BEGIN:VCALENDAR
VERSION:2.0
PRODID:-//85.13.157.133//NONSGML kigkonsult.se iCalcreator 2.20//
CALSCALE:GREGORIAN
METHOD:PUBLISH
X-WR-TIMEZONE:Europe/Berlin
BEGIN:VEVENT
UID:event3750@NaturFreunde Bielefeld e.V.
DTSTAMP:20260419T171606Z
CATEGORIES:Nordic Walking
DESCRIPTION:Senioren-Kaffeeklön ab 14.30 Uhr im AWO-Zentrum\, Meinolfstr.4
 \nKategorie: Nordic Walking\nICS-Link: https://www.test.naturfreunde-biele
 feld.de/index.php?option=com_jem&view=event&id=3750:senioren-kaffeekloen-a
 b-14-30-uhr-im-awo-zentrum-meinolfstr-4\n
DTSTART;VALUE=DATE:20260401
DTEND;VALUE=DATE:20260402
SUMMARY:Senioren-Kaffeeklön ab 14.30 Uhr im AWO-Zentrum\, Meinolfstr.4
URL:https://www.test.naturfreunde-bielefeld.de/index.php?option=com_jem&vie
 w=event&id=3750:senioren-kaffeekloen-ab-14-30-uhr-im-awo-zentrum-meinolfst
 r-4
END:VEVENT
END:VCALENDAR
