
BEGIN:VCALENDAR
VERSION:2.0
PRODID:-//85.13.157.133//NONSGML kigkonsult.se iCalcreator 2.20//
CALSCALE:GREGORIAN
METHOD:PUBLISH
X-WR-TIMEZONE:Europe/Berlin
BEGIN:VEVENT
UID:event375@NaturFreunde Bielefeld e.V.
DTSTAMP:20260419T233913Z
CATEGORIES:Senioren
DESCRIPTION:Senioren-Adventskaffee\nKategorie: Senioren\nICS-Link: https://
 www.test.naturfreunde-bielefeld.de/index.php?option=com_jem&view=event&id=
 375:senioren-adventskaffee\n
DTSTART;VALUE=DATE:20241218
DTEND;VALUE=DATE:20241219
SUMMARY:Senioren-Adventskaffee
URL:https://www.test.naturfreunde-bielefeld.de/index.php?option=com_jem&vie
 w=event&id=375:senioren-adventskaffee
END:VEVENT
END:VCALENDAR
