
BEGIN:VCALENDAR
VERSION:2.0
PRODID:-//85.13.157.133//NONSGML kigkonsult.se iCalcreator 2.20//
CALSCALE:GREGORIAN
METHOD:PUBLISH
X-WR-TIMEZONE:Europe/Berlin
BEGIN:VEVENT
UID:event762@NaturFreunde Bielefeld e.V.
DTSTAMP:20260420T092958Z
CATEGORIES:Computer
DESCRIPTION:Computertreff\nKategorie: Computer\nICS-Link: https://www.test.
 naturfreunde-bielefeld.de/index.php?option=com_jem&view=event&id=762:compu
 tertreff\n
DTSTART;VALUE=DATE:20250307
DTEND;VALUE=DATE:20250308
SUMMARY:Computertreff
URL:https://www.test.naturfreunde-bielefeld.de/index.php?option=com_jem&vie
 w=event&id=762:computertreff
END:VEVENT
END:VCALENDAR
