
BEGIN:VCALENDAR
VERSION:2.0
PRODID:-//85.13.157.133//NONSGML kigkonsult.se iCalcreator 2.20//
CALSCALE:GREGORIAN
METHOD:PUBLISH
X-WR-TIMEZONE:Europe/Berlin
BEGIN:VEVENT
UID:event774@NaturFreunde Bielefeld e.V.
DTSTAMP:20260420T061045Z
CATEGORIES:Senioren
DESCRIPTION:Seniorenspaziergang\nKategorie: Senioren\nICS-Link: https://www
 .test.naturfreunde-bielefeld.de/index.php?option=com_jem&view=event&id=774
 :seniorenspaziergang\n
DTSTART;VALUE=DATE:20250212
DTEND;VALUE=DATE:20250213
SUMMARY:Seniorenspaziergang
URL:https://www.test.naturfreunde-bielefeld.de/index.php?option=com_jem&vie
 w=event&id=774:seniorenspaziergang
END:VEVENT
END:VCALENDAR
