
BEGIN:VCALENDAR
VERSION:2.0
PRODID:-//85.13.157.133//NONSGML kigkonsult.se iCalcreator 2.20//
CALSCALE:GREGORIAN
METHOD:PUBLISH
X-WR-TIMEZONE:Europe/Berlin
BEGIN:VEVENT
UID:event786@NaturFreunde Bielefeld e.V.
DTSTAMP:20260420T011904Z
CATEGORIES:Ortsgruppe
DESCRIPTION:Naturfreundefrühstück auf dem großen Boden\nKategorie: Ortsgrup
 pe\nICS-Link: https://www.test.naturfreunde-bielefeld.de/index.php?option=
 com_jem&view=event&id=786:naturfreundefruehstueck-auf-dem-grossen-boden\n
DTSTART;VALUE=DATE:20250111
DTEND;VALUE=DATE:20250112
SUMMARY:Naturfreundefrühstück auf dem großen Boden
URL:https://www.test.naturfreunde-bielefeld.de/index.php?option=com_jem&vie
 w=event&id=786:naturfreundefruehstueck-auf-dem-grossen-boden
END:VEVENT
END:VCALENDAR
