
BEGIN:VCALENDAR
VERSION:2.0
PRODID:-//85.13.157.133//NONSGML kigkonsult.se iCalcreator 2.20//
CALSCALE:GREGORIAN
METHOD:PUBLISH
X-WR-TIMEZONE:Europe/Berlin
BEGIN:VEVENT
UID:event804@NaturFreunde Bielefeld e.V.
DTSTAMP:20260420T061202Z
CATEGORIES:Kultur
DESCRIPTION:Wandern im Altmühltal\nKategorie: Kultur\nICS-Link: https://www
 .test.naturfreunde-bielefeld.de/index.php?option=com_jem&view=event&id=804
 :wandern-im-altmuehltal\n
DTSTART;VALUE=DATE:20250214
DTEND;VALUE=DATE:20250215
SUMMARY:Wandern im Altmühltal
URL:https://www.test.naturfreunde-bielefeld.de/index.php?option=com_jem&vie
 w=event&id=804:wandern-im-altmuehltal
END:VEVENT
END:VCALENDAR
